BEGIN:VCALENDAR
VERSION:2.0
PRODID:Events Booking
BEGIN:VEVENT
UID:69e877adc2a55
SUMMARY:Probing massive binary stars with gravitational waves - Dr Simon St
 evenson (Swinburne University)
DESCRIPTION:
LOCATION:Boulevard de l’Observatoire 06 304 Nice cedex 4 
DTSTART:20241010T083000Z
DTEND:20241010T100000Z
DTSTAMP:20240923T122608Z
ORGANIZER;CN=Observatoire de la Côte d'Azur:MAILTO:noreply@oca.eu
END:VEVENT
END:VCALENDAR